BEGIN:VCALENDAR
VERSION:2.0
PRODID:-//Miju Church - ECPv6.15.20//NONSGML v1.0//EN
CALSCALE:GREGORIAN
METHOD:PUBLISH
X-WR-CALNAME:Miju Church
X-ORIGINAL-URL:https://mijuchurch.org
X-WR-CALDESC:Events for Miju Church
REFRESH-INTERVAL;VALUE=DURATION:PT1H
X-Robots-Tag:noindex
X-PUBLISHED-TTL:PT1H
BEGIN:VTIMEZONE
TZID:America/Los_Angeles
BEGIN:DAYLIGHT
TZOFFSETFROM:-0800
TZOFFSETTO:-0700
TZNAME:PDT
DTSTART:20190310T100000
END:DAYLIGHT
BEGIN:STANDARD
TZOFFSETFROM:-0700
TZOFFSETTO:-0800
TZNAME:PST
DTSTART:20191103T090000
END:STANDARD
BEGIN:DAYLIGHT
TZOFFSETFROM:-0800
TZOFFSETTO:-0700
TZNAME:PDT
DTSTART:20200308T100000
END:DAYLIGHT
BEGIN:STANDARD
TZOFFSETFROM:-0700
TZOFFSETTO:-0800
TZNAME:PST
DTSTART:20201101T090000
END:STANDARD
BEGIN:DAYLIGHT
TZOFFSETFROM:-0800
TZOFFSETTO:-0700
TZNAME:PDT
DTSTART:20210314T100000
END:DAYLIGHT
BEGIN:STANDARD
TZOFFSETFROM:-0700
TZOFFSETTO:-0800
TZNAME:PST
DTSTART:20211107T090000
END:STANDARD
BEGIN:DAYLIGHT
TZOFFSETFROM:-0800
TZOFFSETTO:-0700
TZNAME:PDT
DTSTART:20220313T100000
END:DAYLIGHT
BEGIN:STANDARD
TZOFFSETFROM:-0700
TZOFFSETTO:-0800
TZNAME:PST
DTSTART:20221106T090000
END:STANDARD
BEGIN:DAYLIGHT
TZOFFSETFROM:-0800
TZOFFSETTO:-0700
TZNAME:PDT
DTSTART:20230312T100000
END:DAYLIGHT
BEGIN:STANDARD
TZOFFSETFROM:-0700
TZOFFSETTO:-0800
TZNAME:PST
DTSTART:20231105T090000
END:STANDARD
BEGIN:DAYLIGHT
TZOFFSETFROM:-0800
TZOFFSETTO:-0700
TZNAME:PDT
DTSTART:20240310T100000
END:DAYLIGHT
BEGIN:STANDARD
TZOFFSETFROM:-0700
TZOFFSETTO:-0800
TZNAME:PST
DTSTART:20241103T090000
END:STANDARD
BEGIN:DAYLIGHT
TZOFFSETFROM:-0800
TZOFFSETTO:-0700
TZNAME:PDT
DTSTART:20250309T100000
END:DAYLIGHT
BEGIN:STANDARD
TZOFFSETFROM:-0700
TZOFFSETTO:-0800
TZNAME:PST
DTSTART:20251102T090000
END:STANDARD
BEGIN:DAYLIGHT
TZOFFSETFROM:-0800
TZOFFSETTO:-0700
TZNAME:PDT
DTSTART:20260308T100000
END:DAYLIGHT
BEGIN:STANDARD
TZOFFSETFROM:-0700
TZOFFSETTO:-0800
TZNAME:PST
DTSTART:20261101T090000
END:STANDARD
BEGIN:DAYLIGHT
TZOFFSETFROM:-0800
TZOFFSETTO:-0700
TZNAME:PDT
DTSTART:20270314T100000
END:DAYLIGHT
BEGIN:STANDARD
TZOFFSETFROM:-0700
TZOFFSETTO:-0800
TZNAME:PST
DTSTART:20271107T090000
END:STANDARD
END:VTIMEZONE
BEGIN:VEVENT
DTSTART;TZID=America/Los_Angeles:20260324T080000
DTEND;TZID=America/Los_Angeles:20260327T170000
DTSTAMP:20260423T145214
CREATED:20250925T164940Z
LAST-MODIFIED:20250925T165303Z
UID:8991-1774339200-1774630800@mijuchurch.org
SUMMARY:2026년 미주 노회
DESCRIPTION:1. 미주 노회\n1) 일시: 2026년 3월 24일(화) – 27일(금)\n2) 장소: 크루즈(배명: Quantum of the Seas\, Royal Caribbean)\n3) 주최: 샌디에고 갈보리교회(김도일목사 담임)\n※ 미주 노회 회원들에게 발송한 메일을 참고하셔서 신청서에 속히 해당 정보를 입력해\n주시기 바랍니다(입력내용은 영문이름\, 생년월일\, 시티즌쉽\, 이메일주소\, 전화번호). \n 
URL:https://mijuchurch.org/event/2026%eb%85%84-%eb%af%b8%ec%a3%bc-%eb%85%b8%ed%9a%8c-%eb%b0%8f-%ec%b4%9d%ed%9a%8c/
END:VEVENT
BEGIN:VEVENT
DTSTART;TZID=America/Los_Angeles:20250929T183000
DTEND;TZID=America/Los_Angeles:20250929T213000
DTSTAMP:20260423T145214
CREATED:20250925T164850Z
LAST-MODIFIED:20250925T165059Z
UID:8989-1759170600-1759181400@mijuchurch.org
SUMMARY:2025년 목사 안수식
DESCRIPTION:일시: 2025년 9월 29일(월) 6:30pm\n장소: 은혜한인교회 비전센터 본당\n하나님의 부르심과 부르심에 응답하여 거룩한 소명으로 사명을 감담할 5명의 귀한 강도사들에 대한\n안수식과 축하의 시간을 가질 예정입니다.
URL:https://mijuchurch.org/event/2025%eb%85%84-%eb%aa%a9%ec%82%ac-%ec%95%88%ec%88%98%ec%8b%9d/
END:VEVENT
BEGIN:VEVENT
DTSTART;TZID=America/Los_Angeles:20210309T080000
DTEND;TZID=America/Los_Angeles:20210309T170000
DTSTAMP:20260423T145214
CREATED:20210310T040132Z
LAST-MODIFIED:20210310T040132Z
UID:6438-1615276800-1615309200@mijuchurch.org
SUMMARY:2021년도 상반기 피택장로 교육
DESCRIPTION:2021년도 상반기 피택장로교육을 아래와 같이 Zoom으로 실시합니다. 3/8\, 3/11\, 3/15\, 3/18  저녁 7:30 – 9:30까지 입니다.
URL:https://mijuchurch.org/event/2021%eb%85%84%eb%8f%84-%ec%83%81%eb%b0%98%ea%b8%b0-%ed%94%bc%ed%83%9d%ec%9e%a5%eb%a1%9c-%ea%b5%90%ec%9c%a1/
END:VEVENT
BEGIN:VEVENT
DTSTART;TZID=America/Los_Angeles:20201013T170000
DTEND;TZID=America/Los_Angeles:20201015T140000
DTSTAMP:20260423T145214
CREATED:20191128T193750Z
LAST-MODIFIED:20191128T193750Z
UID:5584-1602608400-1602770400@mijuchurch.org
SUMMARY:제12차 국제총회 및 GMI 선교대회
DESCRIPTION:국제총회 제12차 정기총회를 10/13/2020(화) – 10/15/2020(목)까지 2박3일 일정으로 강원도 문막에서 개최합니다.
URL:https://mijuchurch.org/event/%ec%a0%9c12%ec%b0%a8-%ea%b5%ad%ec%a0%9c%ec%b4%9d%ed%9a%8c-%eb%b0%8f-gmi-%ec%84%a0%ea%b5%90%eb%8c%80%ed%9a%8c/
LOCATION:문막\, 문막\, Korea\, Republic of
END:VEVENT
BEGIN:VEVENT
DTSTART;TZID=America/Los_Angeles:20200427T173000
DTEND;TZID=America/Los_Angeles:20200430T133000
DTSTAMP:20260423T145214
CREATED:20191128T193244Z
LAST-MODIFIED:20200308T045807Z
UID:5581-1588008600-1588253400@mijuchurch.org
SUMMARY:구소련 현지인 총회
DESCRIPTION:구소련지역 현지인 총회가 볼고그라드에서 4/27/2020 – 4/30/2020 까지 모일 예정이었으나 코로나바이러스로 인해 선교사님들과 미국의 목회자들이 참석이 어렵게 되어 현지인들만의 컨퍼런스로 모일 예정입니다.
URL:https://mijuchurch.org/event/%ea%b5%ac%ec%86%8c%eb%a0%a8-%ed%98%84%ec%a7%80%ec%9d%b8-%ec%b4%9d%ed%9a%8c/
LOCATION:Volgograd\, Volgograd\, Russian Federation
END:VEVENT
BEGIN:VEVENT
DTSTART;TZID=America/Los_Angeles:20200123T193000
DTEND;TZID=America/Los_Angeles:20200123T213000
DTSTAMP:20260423T145214
CREATED:20191201T010159Z
LAST-MODIFIED:20191201T010300Z
UID:5672-1579807800-1579815000@mijuchurch.org
SUMMARY:2020년도 상반기 피택장로교육 : 7-8강
DESCRIPTION:8강 시간은 장로고시를 치르게 됩니다.
URL:https://mijuchurch.org/event/2020%eb%85%84%eb%8f%84-%ec%83%81%eb%b0%98%ea%b8%b0-%ed%94%bc%ed%83%9d%ec%9e%a5%eb%a1%9c%ea%b5%90%ec%9c%a1-7-8%ea%b0%95/
END:VEVENT
BEGIN:VEVENT
DTSTART;TZID=America/Los_Angeles:20200120T193000
DTEND;TZID=America/Los_Angeles:20200120T213000
DTSTAMP:20260423T145214
CREATED:20191201T010044Z
LAST-MODIFIED:20191201T010044Z
UID:5670-1579548600-1579555800@mijuchurch.org
SUMMARY:2020년도 상반기 피택장로교육 : 5~6강
DESCRIPTION:
URL:https://mijuchurch.org/event/2020%eb%85%84%eb%8f%84-%ec%83%81%eb%b0%98%ea%b8%b0-%ed%94%bc%ed%83%9d%ec%9e%a5%eb%a1%9c%ea%b5%90%ec%9c%a1-56%ea%b0%95/
END:VEVENT
BEGIN:VEVENT
DTSTART;TZID=America/Los_Angeles:20200116T193000
DTEND;TZID=America/Los_Angeles:20200116T213000
DTSTAMP:20260423T145214
CREATED:20191201T005950Z
LAST-MODIFIED:20191201T005950Z
UID:5668-1579203000-1579210200@mijuchurch.org
SUMMARY:2020년도 상반기 피택장로교육 : 3~4강
DESCRIPTION:
URL:https://mijuchurch.org/event/2020%eb%85%84%eb%8f%84-%ec%83%81%eb%b0%98%ea%b8%b0-%ed%94%bc%ed%83%9d%ec%9e%a5%eb%a1%9c%ea%b5%90%ec%9c%a1-34%ea%b0%95/
END:VEVENT
BEGIN:VEVENT
DTSTART;TZID=America/Los_Angeles:20200113T193000
DTEND;TZID=America/Los_Angeles:20200113T213000
DTSTAMP:20260423T145214
CREATED:20191201T005849Z
LAST-MODIFIED:20191201T005849Z
UID:5666-1578943800-1578951000@mijuchurch.org
SUMMARY:2020년도 상반기 피택장로교육 : 1~2강
DESCRIPTION:
URL:https://mijuchurch.org/event/2020%eb%85%84%eb%8f%84-%ec%83%81%eb%b0%98%ea%b8%b0-%ed%94%bc%ed%83%9d%ec%9e%a5%eb%a1%9c%ea%b5%90%ec%9c%a1-12%ea%b0%95/
END:VEVENT
END:VCALENDAR